Package: bandle Version: 1.13.0 Command: /Library/Frameworks/R.framework/Resources/bin/R CMD INSTALL bandle StartedAt: 2025-07-21 15:21:29 -0400 (Mon, 21 Jul 2025) EndedAt: 2025-07-21 15:22:02 -0400 (Mon, 21 Jul 2025) EllapsedTime: 32.8 seconds RetCode: 0 Status: OK