Package: bandle Version: 1.13.0 Command: /Library/Frameworks/R.framework/Resources/bin/R CMD build --keep-empty-dirs --no-resave-data bandle StartedAt: 2025-07-21 15:39:08 -0400 (Mon, 21 Jul 2025) EndedAt: 2025-07-21 15:40:36 -0400 (Mon, 21 Jul 2025) EllapsedTime: 88.0 seconds RetCode: 0 Status: OK PackageFile: bandle_1.13.0.tar.gz PackageFileSize: 4.179 MiB