Package: bandle Version: 1.13.0 Command: rm -rf bandle.buildbin-libdir && mkdir bandle.buildbin-libdir && /Users/biocbuild/BBS/utils/build-universal.sh bandle_1.13.0.tar.gz /Library/Frameworks/R.framework/Resources/bin/R bandle.buildbin-libdir StartedAt: 2025-07-21 22:17:25 -0400 (Mon, 21 Jul 2025) EndedAt: 2025-07-21 22:18:01 -0400 (Mon, 21 Jul 2025) EllapsedTime: 35.6 seconds RetCode: 0 Status: OK PackageFile: bandle_1.13.0.tgz PackageFileSize: 4.814 MiB