Package: bamsignals Version: 1.41.2 Command: F:\biocbuild\bbs-3.22-bioc\R\bin\R.exe CMD check --no-multiarch --install=check:bamsignals.install-out.txt --library=F:\biocbuild\bbs-3.22-bioc\R\library --no-vignettes --timings bamsignals_1.41.2.tar.gz StartedAt: 2025-07-11 23:24:38 -0400 (Fri, 11 Jul 2025) EndedAt: 2025-07-11 23:28:36 -0400 (Fri, 11 Jul 2025) EllapsedTime: 237.9 seconds RetCode: 0 Status: OK CheckDir: bamsignals.Rcheck Warnings: 0