Package: bambu Version: 3.11.2 Command: /Library/Frameworks/R.framework/Resources/bin/R CMD INSTALL bambu StartedAt: 2025-07-02 15:36:50 -0400 (Wed, 02 Jul 2025) EndedAt: 2025-07-02 15:38:00 -0400 (Wed, 02 Jul 2025) EllapsedTime: 69.9 seconds RetCode: 0 Status: OK