Package: bambu Version: 3.11.2 Command: /Library/Frameworks/R.framework/Resources/bin/R CMD check --install=check:bambu.install-out.txt --library=/Library/Frameworks/R.framework/Resources/library --no-vignettes --timings bambu_3.11.2.tar.gz StartedAt: 2025-07-07 19:11:45 -0400 (Mon, 07 Jul 2025) EndedAt: 2025-07-07 19:20:12 -0400 (Mon, 07 Jul 2025) EllapsedTime: 507.5 seconds RetCode: 0 Status: OK CheckDir: bambu.Rcheck Warnings: 0