Package: bambu Version: 3.11.2 Command: /Library/Frameworks/R.framework/Resources/bin/R CMD build --keep-empty-dirs --no-resave-data bambu StartedAt: 2025-07-02 15:58:53 -0400 (Wed, 02 Jul 2025) EndedAt: 2025-07-02 16:13:05 -0400 (Wed, 02 Jul 2025) EllapsedTime: 852.4 seconds RetCode: 0 Status: OK PackageFile: bambu_3.11.2.tar.gz PackageFileSize: 2.311 MiB