Package: bambu Version: 3.11.2 Command: /Library/Frameworks/R.framework/Resources/bin/R CMD INSTALL bambu StartedAt: 2025-07-14 15:22:57 -0400 (Mon, 14 Jul 2025) EndedAt: 2025-07-14 15:23:18 -0400 (Mon, 14 Jul 2025) EllapsedTime: 20.8 seconds RetCode: 0 Status: OK