Package: ballgown Version: 2.41.1 Command: /home/biocbuild/bbs-3.22-bioc/R/bin/R CMD INSTALL ballgown StartedAt: 2025-10-06 15:28:07 -0400 (Mon, 06 Oct 2025) EndedAt: 2025-10-06 15:28:45 -0400 (Mon, 06 Oct 2025) EllapsedTime: 37.4 seconds RetCode: 0 Status: OK