Package: ballgown Version: 2.41.1 Command: /Library/Frameworks/R.framework/Resources/bin/R CMD INSTALL ballgown StartedAt: 2025-10-05 15:28:00 -0400 (Sun, 05 Oct 2025) EndedAt: 2025-10-05 15:28:54 -0400 (Sun, 05 Oct 2025) EllapsedTime: 53.7 seconds RetCode: 0 Status: OK