Package: ballgown Version: 2.41.1 Command: /Library/Frameworks/R.framework/Resources/bin/R CMD build --keep-empty-dirs --no-resave-data ballgown StartedAt: 2025-10-03 16:03:18 -0400 (Fri, 03 Oct 2025) EndedAt: 2025-10-03 16:04:25 -0400 (Fri, 03 Oct 2025) EllapsedTime: 67.4 seconds RetCode: 0 Status: OK PackageFile: ballgown_2.41.1.tar.gz PackageFileSize: 3.081 MiB