Package: ballgown Version: 2.41.1 Command: /Library/Frameworks/R.framework/Resources/bin/R CMD INSTALL ballgown StartedAt: 2025-10-05 15:16:30 -0400 (Sun, 05 Oct 2025) EndedAt: 2025-10-05 15:16:46 -0400 (Sun, 05 Oct 2025) EllapsedTime: 15.5 seconds RetCode: 0 Status: OK