Package: ballgown Version: 2.41.1 Command: /Library/Frameworks/R.framework/Resources/bin/R CMD check --install=check:ballgown.install-out.txt --library=/Library/Frameworks/R.framework/Resources/library --no-vignettes --timings ballgown_2.41.1.tar.gz StartedAt: 2025-10-05 18:21:33 -0400 (Sun, 05 Oct 2025) EndedAt: 2025-10-05 18:23:57 -0400 (Sun, 05 Oct 2025) EllapsedTime: 144.6 seconds RetCode: 0 Status: OK CheckDir: ballgown.Rcheck Warnings: 0