Package: ballgown Version: 2.41.1 Command: /Library/Frameworks/R.framework/Resources/bin/R CMD build --keep-empty-dirs --no-resave-data ballgown StartedAt: 2025-10-05 15:40:15 -0400 (Sun, 05 Oct 2025) EndedAt: 2025-10-05 15:40:36 -0400 (Sun, 05 Oct 2025) EllapsedTime: 21.2 seconds RetCode: 0 Status: OK PackageFile: ballgown_2.41.1.tar.gz PackageFileSize: 3.081 MiB