Package: ballgown Version: 2.41.1 Command: rm -rf ballgown.buildbin-libdir && mkdir ballgown.buildbin-libdir && /Users/biocbuild/BBS/utils/build-universal.sh ballgown_2.41.1.tar.gz /Library/Frameworks/R.framework/Resources/bin/R ballgown.buildbin-libdir StartedAt: 2025-10-05 22:34:47 -0400 (Sun, 05 Oct 2025) EndedAt: 2025-10-05 22:35:04 -0400 (Sun, 05 Oct 2025) EllapsedTime: 17.4 seconds RetCode: 0 Status: OK PackageFile: ballgown_2.41.1.tgz PackageFileSize: 3.318 MiB