Package: bacon Version: 1.37.0 Command: /Library/Frameworks/R.framework/Resources/bin/R CMD INSTALL bacon StartedAt: 2025-07-01 15:04:30 -0400 (Tue, 01 Jul 2025) EndedAt: 2025-07-01 15:04:35 -0400 (Tue, 01 Jul 2025) EllapsedTime: 4.5 seconds RetCode: 0 Status: OK