Package: bacon Version: 1.37.0 Command: /Library/Frameworks/R.framework/Resources/bin/R CMD build --keep-empty-dirs --no-resave-data bacon StartedAt: 2025-07-01 15:38:19 -0400 (Tue, 01 Jul 2025) EndedAt: 2025-07-01 15:38:36 -0400 (Tue, 01 Jul 2025) EllapsedTime: 17.2 seconds RetCode: 0 Status: OK PackageFile: bacon_1.37.0.tar.gz PackageFileSize: 2.076 MiB