Package: autonomics Version: 1.17.0 Command: /home/biocbuild/R/R/bin/R CMD INSTALL autonomics StartedAt: 2025-07-07 20:29:01 -0000 (Mon, 07 Jul 2025) EndedAt: 2025-07-07 20:29:52 -0000 (Mon, 07 Jul 2025) EllapsedTime: 51.4 seconds RetCode: 0 Status: OK