Package: autonomics Version: 1.17.0 Command: /home/biocbuild/R/R/bin/R CMD build --keep-empty-dirs --no-resave-data autonomics StartedAt: 2025-07-07 21:35:00 -0000 (Mon, 07 Jul 2025) EndedAt: 2025-07-07 21:38:09 -0000 (Mon, 07 Jul 2025) EllapsedTime: 189.1 seconds RetCode: 0 Status: OK PackageFile: autonomics_1.17.0.tar.gz PackageFileSize: 1.279 MiB