Package: autonomics Version: 1.17.0 Command: /Library/Frameworks/R.framework/Resources/bin/R CMD INSTALL autonomics StartedAt: 2025-07-07 15:21:57 -0400 (Mon, 07 Jul 2025) EndedAt: 2025-07-07 15:22:50 -0400 (Mon, 07 Jul 2025) EllapsedTime: 52.1 seconds RetCode: 0 Status: OK