Package: autonomics Version: 1.17.0 Command: /Library/Frameworks/R.framework/Resources/bin/R CMD build --keep-empty-dirs --no-resave-data autonomics StartedAt: 2025-07-09 16:26:13 -0400 (Wed, 09 Jul 2025) EndedAt: 2025-07-09 16:28:39 -0400 (Wed, 09 Jul 2025) EllapsedTime: 146.1 seconds RetCode: 0 Status: OK PackageFile: autonomics_1.17.0.tar.gz PackageFileSize: 2.416 MiB