Package: atena Version: 1.15.1 Command: /home/biocbuild/R/R/bin/R CMD build --keep-empty-dirs --no-resave-data atena StartedAt: 2025-07-24 22:32:16 -0000 (Thu, 24 Jul 2025) EndedAt: 2025-07-24 22:50:10 -0000 (Thu, 24 Jul 2025) EllapsedTime: 1074.3 seconds RetCode: 0 Status: OK PackageFile: atena_1.15.1.tar.gz PackageFileSize: 1.307 MiB