Package: atena Version: 1.15.1 Command: F:\biocbuild\bbs-3.22-bioc\R\bin\R.exe CMD INSTALL atena StartedAt: 2025-07-22 16:03:41 -0400 (Tue, 22 Jul 2025) EndedAt: 2025-07-22 16:04:43 -0400 (Tue, 22 Jul 2025) EllapsedTime: 61.7 seconds RetCode: 0 Status: OK