Package: atena Version: 1.15.1 Command: F:\biocbuild\bbs-3.22-bioc\R\bin\R.exe CMD check --no-multiarch --install=check:atena.install-out.txt --library=F:\biocbuild\bbs-3.22-bioc\R\library --no-vignettes --timings atena_1.15.1.tar.gz StartedAt: 2025-07-22 23:28:18 -0400 (Tue, 22 Jul 2025) EndedAt: 2025-07-22 23:36:08 -0400 (Tue, 22 Jul 2025) EllapsedTime: 469.9 seconds RetCode: 0 Status: OK CheckDir: atena.Rcheck Warnings: 0