Package: atena Version: 1.15.1 Command: rm -rf atena.buildbin-libdir && mkdir atena.buildbin-libdir && F:\biocbuild\bbs-3.22-bioc\R\bin\R.exe CMD INSTALL --build --library=atena.buildbin-libdir atena_1.15.1.tar.gz StartedAt: 2025-07-23 08:36:32 -0400 (Wed, 23 Jul 2025) EndedAt: 2025-07-23 08:37:41 -0400 (Wed, 23 Jul 2025) EllapsedTime: 69.5 seconds RetCode: 0 Status: OK PackageFile: atena_1.15.1.zip PackageFileSize: 1.715 MiB