Package: atena Version: 1.15.1 Command: /Library/Frameworks/R.framework/Resources/bin/R CMD INSTALL atena StartedAt: 2025-07-07 15:32:53 -0400 (Mon, 07 Jul 2025) EndedAt: 2025-07-07 15:33:48 -0400 (Mon, 07 Jul 2025) EllapsedTime: 54.7 seconds RetCode: 0 Status: OK