Package: atena Version: 1.15.1 Command: /Library/Frameworks/R.framework/Resources/bin/R CMD build --keep-empty-dirs --no-resave-data atena StartedAt: 2025-07-07 16:05:32 -0400 (Mon, 07 Jul 2025) EndedAt: 2025-07-07 16:19:10 -0400 (Mon, 07 Jul 2025) EllapsedTime: 818.8 seconds RetCode: 0 Status: OK PackageFile: atena_1.15.1.tar.gz PackageFileSize: 1.283 MiB