Package: atena Version: 1.15.1 Command: /Library/Frameworks/R.framework/Resources/bin/R CMD INSTALL atena StartedAt: 2025-07-01 15:19:37 -0400 (Tue, 01 Jul 2025) EndedAt: 2025-07-01 15:19:53 -0400 (Tue, 01 Jul 2025) EllapsedTime: 16.6 seconds RetCode: 0 Status: OK