Package: atena Version: 1.15.1 Command: /Library/Frameworks/R.framework/Resources/bin/R CMD build --keep-empty-dirs --no-resave-data atena StartedAt: 2025-07-01 15:37:24 -0400 (Tue, 01 Jul 2025) EndedAt: 2025-07-01 15:41:17 -0400 (Tue, 01 Jul 2025) EllapsedTime: 232.5 seconds RetCode: 0 Status: OK PackageFile: atena_1.15.1.tar.gz PackageFileSize: 1.283 MiB