Package: atena Version: 1.15.1 Command: rm -rf atena.buildbin-libdir && mkdir atena.buildbin-libdir && /Users/biocbuild/BBS/utils/build-universal.sh atena_1.15.1.tar.gz /Library/Frameworks/R.framework/Resources/bin/R atena.buildbin-libdir StartedAt: 2025-07-01 22:10:45 -0400 (Tue, 01 Jul 2025) EndedAt: 2025-07-01 22:11:02 -0400 (Tue, 01 Jul 2025) EllapsedTime: 17.3 seconds RetCode: 0 Status: OK PackageFile: atena_1.15.1.tgz PackageFileSize: 1.759 MiB