Package: atSNP Version: 1.25.0 Command: /home/biocbuild/R/R/bin/R CMD build --keep-empty-dirs --no-resave-data atSNP StartedAt: 2025-07-10 22:52:34 -0000 (Thu, 10 Jul 2025) EndedAt: 2025-07-10 22:54:17 -0000 (Thu, 10 Jul 2025) EllapsedTime: 103.0 seconds RetCode: 0 Status: OK PackageFile: atSNP_1.25.0.tar.gz PackageFileSize: 857.3 KiB