Package: atSNP Version: 1.25.0 Command: chmod a+r atSNP -R && F:\biocbuild\bbs-3.22-bioc\R\bin\R.exe CMD build --keep-empty-dirs --no-resave-data atSNP StartedAt: 2025-07-24 17:34:26 -0400 (Thu, 24 Jul 2025) EndedAt: 2025-07-24 17:36:18 -0400 (Thu, 24 Jul 2025) EllapsedTime: 111.9 seconds RetCode: 0 Status: OK PackageFile: atSNP_1.25.0.tar.gz PackageFileSize: 829.1 KiB