Package: atSNP Version: 1.25.0 Command: /Library/Frameworks/R.framework/Resources/bin/R CMD build --keep-empty-dirs --no-resave-data atSNP StartedAt: 2025-07-07 16:05:33 -0400 (Mon, 07 Jul 2025) EndedAt: 2025-07-07 16:06:49 -0400 (Mon, 07 Jul 2025) EllapsedTime: 76.4 seconds RetCode: 0 Status: OK PackageFile: atSNP_1.25.0.tar.gz PackageFileSize: 1.029 MiB