Package: atSNP Version: 1.25.0 Command: /Library/Frameworks/R.framework/Resources/bin/R CMD build --keep-empty-dirs --no-resave-data atSNP StartedAt: 2025-07-16 15:37:27 -0400 (Wed, 16 Jul 2025) EndedAt: 2025-07-16 15:37:56 -0400 (Wed, 16 Jul 2025) EllapsedTime: 29.3 seconds RetCode: 0 Status: OK PackageFile: atSNP_1.25.0.tar.gz PackageFileSize: 1.029 MiB