Package: atSNP Version: 1.25.0 Command: rm -rf atSNP.buildbin-libdir && mkdir atSNP.buildbin-libdir && /Users/biocbuild/BBS/utils/build-universal.sh atSNP_1.25.0.tar.gz /Library/Frameworks/R.framework/Resources/bin/R atSNP.buildbin-libdir StartedAt: 2025-07-16 22:10:04 -0400 (Wed, 16 Jul 2025) EndedAt: 2025-07-16 22:10:27 -0400 (Wed, 16 Jul 2025) EllapsedTime: 22.4 seconds RetCode: 0 Status: OK PackageFile: atSNP_1.25.0.tgz PackageFileSize: 1.185 MiB