Package: assorthead Version: 1.3.4 Command: F:\biocbuild\bbs-3.22-bioc\R\bin\R.exe CMD check --no-multiarch --install=check:assorthead.install-out.txt --library=F:\biocbuild\bbs-3.22-bioc\R\library --no-vignettes --timings assorthead_1.3.4.tar.gz StartedAt: 2025-07-01 23:22:36 -0400 (Tue, 01 Jul 2025) EndedAt: 2025-07-01 23:23:12 -0400 (Tue, 01 Jul 2025) EllapsedTime: 36.5 seconds RetCode: 0 Status: OK CheckDir: assorthead.Rcheck Warnings: 0