Package: assorthead Version: 1.3.10 Command: rm -rf assorthead.buildbin-libdir && mkdir assorthead.buildbin-libdir && /Users/biocbuild/BBS/utils/build-universal.sh assorthead_1.3.10.tar.gz /Library/Frameworks/R.framework/Resources/bin/R assorthead.buildbin-libdir StartedAt: 2025-10-06 01:48:36 -0400 (Mon, 06 Oct 2025) EndedAt: 2025-10-06 01:48:46 -0400 (Mon, 06 Oct 2025) EllapsedTime: 10.3 seconds RetCode: 0 Status: OK PackageFile: assorthead_1.3.10.tgz PackageFileSize: 1.815 MiB