Package: artMS Version: 1.27.0 Command: F:\biocbuild\bbs-3.22-bioc\R\bin\R.exe CMD INSTALL artMS StartedAt: 2025-07-24 16:17:45 -0400 (Thu, 24 Jul 2025) EndedAt: 2025-07-24 16:18:35 -0400 (Thu, 24 Jul 2025) EllapsedTime: 49.8 seconds RetCode: 0 Status: OK