Package: artMS Version: 1.27.0 Command: /Library/Frameworks/R.framework/Resources/bin/R CMD INSTALL artMS StartedAt: 2025-07-01 15:35:49 -0400 (Tue, 01 Jul 2025) EndedAt: 2025-07-01 15:36:28 -0400 (Tue, 01 Jul 2025) EllapsedTime: 39.6 seconds RetCode: 0 Status: OK