Package: artMS Version: 1.27.0 Command: /Library/Frameworks/R.framework/Resources/bin/R CMD build --keep-empty-dirs --no-resave-data artMS StartedAt: 2025-07-01 16:09:55 -0400 (Tue, 01 Jul 2025) EndedAt: 2025-07-01 16:10:54 -0400 (Tue, 01 Jul 2025) EllapsedTime: 59.4 seconds RetCode: 0 Status: OK PackageFile: artMS_1.27.0.tar.gz PackageFileSize: 3.979 MiB