Package: artMS Version: 1.27.0 Command: rm -rf artMS.buildbin-libdir && mkdir artMS.buildbin-libdir && /Users/biocbuild/BBS/utils/build-universal.sh artMS_1.27.0.tar.gz /Library/Frameworks/R.framework/Resources/bin/R artMS.buildbin-libdir StartedAt: 2025-07-02 00:45:57 -0400 (Wed, 02 Jul 2025) EndedAt: 2025-07-02 00:46:42 -0400 (Wed, 02 Jul 2025) EllapsedTime: 45.0 seconds RetCode: 0 Status: OK PackageFile: artMS_1.27.0.tgz PackageFileSize: 3.327 MiB