Package: aroma.light Version: 3.39.0 Command: /home/biocbuild/R/R/bin/R CMD check --install=check:aroma.light.install-out.txt --library=/home/biocbuild/R/R/site-library --no-vignettes --timings aroma.light_3.39.0.tar.gz StartedAt: 2025-07-22 04:34:54 -0000 (Tue, 22 Jul 2025) EndedAt: 2025-07-22 04:36:51 -0000 (Tue, 22 Jul 2025) EllapsedTime: 117.3 seconds RetCode: 0 Status: OK CheckDir: aroma.light.Rcheck Warnings: 0