Package: aroma.light Version: 3.39.0 Command: /home/biocbuild/R/R/bin/R CMD build --keep-empty-dirs --no-resave-data aroma.light StartedAt: 2025-07-17 21:34:11 -0000 (Thu, 17 Jul 2025) EndedAt: 2025-07-17 21:34:13 -0000 (Thu, 17 Jul 2025) EllapsedTime: 2.0 seconds RetCode: 0 Status: OK PackageFile: aroma.light_3.39.0.tar.gz PackageFileSize: 379.3 KiB