Package: aroma.light Version: 3.39.0 Command: /home/biocbuild/bbs-3.22-bioc/R/bin/R CMD INSTALL aroma.light StartedAt: 2025-07-07 15:02:57 -0400 (Mon, 07 Jul 2025) EndedAt: 2025-07-07 15:03:21 -0400 (Mon, 07 Jul 2025) EllapsedTime: 23.4 seconds RetCode: 0 Status: OK