Package: aroma.light Version: 3.39.0 Command: /Library/Frameworks/R.framework/Resources/bin/R CMD INSTALL aroma.light StartedAt: 2025-07-16 15:05:43 -0400 (Wed, 16 Jul 2025) EndedAt: 2025-07-16 15:06:15 -0400 (Wed, 16 Jul 2025) EllapsedTime: 31.6 seconds RetCode: 0 Status: OK