Package: aroma.light Version: 3.39.0 Command: /Library/Frameworks/R.framework/Resources/bin/R CMD INSTALL aroma.light StartedAt: 2025-07-22 15:02:44 -0400 (Tue, 22 Jul 2025) EndedAt: 2025-07-22 15:02:52 -0400 (Tue, 22 Jul 2025) EllapsedTime: 7.2 seconds RetCode: 0 Status: OK