Package: aroma.light Version: 3.39.0 Command: /Library/Frameworks/R.framework/Resources/bin/R CMD check --install=check:aroma.light.install-out.txt --library=/Library/Frameworks/R.framework/Resources/library --no-vignettes --timings aroma.light_3.39.0.tar.gz StartedAt: 2025-07-22 18:04:19 -0400 (Tue, 22 Jul 2025) EndedAt: 2025-07-22 18:04:52 -0400 (Tue, 22 Jul 2025) EllapsedTime: 33.4 seconds RetCode: 0 Status: OK CheckDir: aroma.light.Rcheck Warnings: 0