Package: aroma.light Version: 3.39.0 Command: /Library/Frameworks/R.framework/Resources/bin/R CMD build --keep-empty-dirs --no-resave-data aroma.light StartedAt: 2025-07-22 15:37:09 -0400 (Tue, 22 Jul 2025) EndedAt: 2025-07-22 15:37:10 -0400 (Tue, 22 Jul 2025) EllapsedTime: 1.0 seconds RetCode: 0 Status: OK PackageFile: aroma.light_3.39.0.tar.gz PackageFileSize: 379.3 KiB