Package: aroma.light Version: 3.39.0 Command: rm -rf aroma.light.buildbin-libdir && mkdir aroma.light.buildbin-libdir && /Users/biocbuild/BBS/utils/build-universal.sh aroma.light_3.39.0.tar.gz /Library/Frameworks/R.framework/Resources/bin/R aroma.light.buildbin-libdir StartedAt: 2025-07-22 22:15:54 -0400 (Tue, 22 Jul 2025) EndedAt: 2025-07-22 22:15:56 -0400 (Tue, 22 Jul 2025) EllapsedTime: 2.0 seconds RetCode: 0 Status: OK PackageFile: aroma.light_3.39.0.tgz PackageFileSize: 607.9 KiB