Package: appreci8R Version: 1.27.0 Command: /home/biocbuild/R/R/bin/R CMD build --keep-empty-dirs --no-resave-data appreci8R StartedAt: 2025-07-14 21:38:28 -0000 (Mon, 14 Jul 2025) EndedAt: 2025-07-14 21:42:04 -0000 (Mon, 14 Jul 2025) EllapsedTime: 216.1 seconds RetCode: 0 Status: OK PackageFile: appreci8R_1.27.0.tar.gz PackageFileSize: 1005 KiB